BEGIN:VCALENDAR
VERSION:2.0
PRODID:icalendar-ruby
CALSCALE:GREGORIAN
METHOD:PUBLISH
BEGIN:VEVENT
DTSTAMP:20260425T132609Z
UID:200-2019494@therockcma.com
DTSTART:20260524T163000Z
DTEND:20260524T180000Z
CLASS:PUBLIC
CREATED:20260425T072121
DESCRIPTION:We invite you to join us on Sunday mornings at 10:30 am for a w
 orship service.  If you want more information about what to expect\, clic
 k the link below.  \nWhat to Expect on a Sunday Morning
LAST-MODIFIED:20260425T072121
LOCATION:11220 Lone Star Rd. Nampa\, ID 83651
SUMMARY:Worship Service
URL;VALUE=URI:https://www.therockcma.com/events/worship-service--200/2026-0
 5-24
END:VEVENT
END:VCALENDAR
