BEGIN:VCALENDAR
VERSION:2.0
PRODID:icalendar-ruby
CALSCALE:GREGORIAN
METHOD:PUBLISH
BEGIN:VEVENT
DTSTAMP:20260425T114717Z
UID:201-2018543@therockcma.com
DTSTART:20260522T000000Z
DTEND:20260522T020000Z
CLASS:PUBLIC
CREATED:20260425T043948
DESCRIPTION:We invite all youth\, grades 6-12\, to join us for our weekly y
 outh group at theRock.  For more information about all that goes on at Yo
 uth Group\, click the link below. \nMORE INFO ABOUT YOUTH GROUP
LAST-MODIFIED:20260425T043948
LOCATION:11220 Lone Star Rd. Nampa\, ID 83651
SUMMARY:Youth Group
URL;VALUE=URI:https://www.therockcma.com/events/youth-group--201/2026-05-21
ATTACH;FILENAME=YOUTH GROUP (1).png;FMTTYPE=image/png:https://dq5pwpg1q8ru0
 .cloudfront.net/2026/04/13/20/53/34/c1f055da-dc33-496d-9d54-f29c48a91e3e/Y
 OUTH%20GROUP%20(1).png
END:VEVENT
END:VCALENDAR
